BEGIN:VCALENDAR
VERSION:2.0
PRODID:-//Hope ELCA | Hope Lutheran Church - Cranberry Twp, Butler PA - ECPv6.15.20//NONSGML v1.0//EN
CALSCALE:GREGORIAN
METHOD:PUBLISH
X-ORIGINAL-URL:https://hlc.church
X-WR-CALDESC:Events for Hope ELCA | Hope Lutheran Church - Cranberry Twp, Butler PA
REFRESH-INTERVAL;VALUE=DURATION:PT1H
X-Robots-Tag:noindex
X-PUBLISHED-TTL:PT1H
BEGIN:VTIMEZONE
TZID:America/New_York
BEGIN:DAYLIGHT
TZOFFSETFROM:-0500
TZOFFSETTO:-0400
TZNAME:EDT
DTSTART:20230312T070000
END:DAYLIGHT
BEGIN:STANDARD
TZOFFSETFROM:-0400
TZOFFSETTO:-0500
TZNAME:EST
DTSTART:20231105T060000
END:STANDARD
BEGIN:DAYLIGHT
TZOFFSETFROM:-0500
TZOFFSETTO:-0400
TZNAME:EDT
DTSTART:20240310T070000
END:DAYLIGHT
BEGIN:STANDARD
TZOFFSETFROM:-0400
TZOFFSETTO:-0500
TZNAME:EST
DTSTART:20241103T060000
END:STANDARD
BEGIN:DAYLIGHT
TZOFFSETFROM:-0500
TZOFFSETTO:-0400
TZNAME:EDT
DTSTART:20250309T070000
END:DAYLIGHT
BEGIN:STANDARD
TZOFFSETFROM:-0400
TZOFFSETTO:-0500
TZNAME:EST
DTSTART:20251102T060000
END:STANDARD
BEGIN:DAYLIGHT
TZOFFSETFROM:-0500
TZOFFSETTO:-0400
TZNAME:EDT
DTSTART:20260308T070000
END:DAYLIGHT
BEGIN:STANDARD
TZOFFSETFROM:-0400
TZOFFSETTO:-0500
TZNAME:EST
DTSTART:20261101T060000
END:STANDARD
END:VTIMEZONE
BEGIN:VEVENT
DTSTART;TZID=America/New_York:20250512T183000
DTEND;TZID=America/New_York:20250512T193000
DTSTAMP:20260420T023110
CREATED:20241210T182344Z
LAST-MODIFIED:20241219T143339Z
UID:10020701-1747074600-1747078200@hlc.church
SUMMARY:High School Bible Study
DESCRIPTION:
URL:https://hlc.church/event/high-school-bible-study-2/2025-05-12/
LOCATION:Youth Center\, 8070 Rowan Road\, Cranberry Township\, PA\, 16066\, United States
END:VEVENT
BEGIN:VEVENT
DTSTART;TZID=America/New_York:20250503T080000
DTEND;TZID=America/New_York:20250503T090000
DTSTAMP:20260420T023110
CREATED:20240815T130220Z
LAST-MODIFIED:20240815T130222Z
UID:10020460-1746259200-1746262800@hlc.church
SUMMARY:Men's Group Fellowship
DESCRIPTION:
URL:https://hlc.church/event/mens-group-fellowship/2025-05-03/
LOCATION:Youth Center\, 8070 Rowan Road\, Cranberry Township\, PA\, 16066\, United States
END:VEVENT
BEGIN:VEVENT
DTSTART;TZID=America/New_York:20250427T090000
DTEND;TZID=America/New_York:20250427T094500
DTSTAMP:20260420T023110
CREATED:20241220T144335Z
LAST-MODIFIED:20241220T144337Z
UID:10021581-1745744400-1745747100@hlc.church
SUMMARY:Confirmation Group Activities
DESCRIPTION:
URL:https://hlc.church/event/confirmation-group-activities/2025-04-27/
LOCATION:Youth Center\, 8070 Rowan Road\, Cranberry Township\, PA\, 16066\, United States
END:VEVENT
BEGIN:VEVENT
DTSTART;TZID=America/New_York:20250416T124500
DTEND;TZID=America/New_York:20250416T153000
DTSTAMP:20260420T023110
CREATED:20241204T140037Z
LAST-MODIFIED:20260116T150205Z
UID:10020638-1744807500-1744817400@hlc.church
SUMMARY:J.O.Y. (Just Older Youth) Group
DESCRIPTION:
URL:https://hlc.church/event/j-o-y-just-older-youth-group/2025-04-16/
LOCATION:Youth Center\, 8070 Rowan Road\, Cranberry Township\, PA\, 16066\, United States
END:VEVENT
BEGIN:VEVENT
DTSTART;TZID=America/New_York:20250410T183000
DTEND;TZID=America/New_York:20250410T193000
DTSTAMP:20260420T023110
CREATED:20241210T182344Z
LAST-MODIFIED:20241219T143339Z
UID:10020700-1744309800-1744313400@hlc.church
SUMMARY:High School Bible Study
DESCRIPTION:
URL:https://hlc.church/event/high-school-bible-study-2/2025-04-10/
LOCATION:Youth Center\, 8070 Rowan Road\, Cranberry Township\, PA\, 16066\, United States
END:VEVENT
BEGIN:VEVENT
DTSTART;TZID=America/New_York:20250405T080000
DTEND;TZID=America/New_York:20250405T090000
DTSTAMP:20260420T023110
CREATED:20240815T130220Z
LAST-MODIFIED:20240815T130222Z
UID:10020459-1743840000-1743843600@hlc.church
SUMMARY:Men's Group Fellowship
DESCRIPTION:
URL:https://hlc.church/event/mens-group-fellowship/2025-04-05/
LOCATION:Youth Center\, 8070 Rowan Road\, Cranberry Township\, PA\, 16066\, United States
END:VEVENT
BEGIN:VEVENT
DTSTART;TZID=America/New_York:20250323T090000
DTEND;TZID=America/New_York:20250323T094500
DTSTAMP:20260420T023110
CREATED:20241220T144335Z
LAST-MODIFIED:20241220T144337Z
UID:10021580-1742720400-1742723100@hlc.church
SUMMARY:Confirmation Group Activities
DESCRIPTION:
URL:https://hlc.church/event/confirmation-group-activities/2025-03-23/
LOCATION:Youth Center\, 8070 Rowan Road\, Cranberry Township\, PA\, 16066\, United States
END:VEVENT
BEGIN:VEVENT
DTSTART;TZID=America/New_York:20250319T124500
DTEND;TZID=America/New_York:20250319T153000
DTSTAMP:20260420T023110
CREATED:20241204T140037Z
LAST-MODIFIED:20260116T150205Z
UID:10020637-1742388300-1742398200@hlc.church
SUMMARY:J.O.Y. (Just Older Youth) Group
DESCRIPTION:
URL:https://hlc.church/event/j-o-y-just-older-youth-group/2025-03-19/
LOCATION:Youth Center\, 8070 Rowan Road\, Cranberry Township\, PA\, 16066\, United States
END:VEVENT
BEGIN:VEVENT
DTSTART;TZID=America/New_York:20250311T183000
DTEND;TZID=America/New_York:20250311T193000
DTSTAMP:20260420T023110
CREATED:20241210T182344Z
LAST-MODIFIED:20241219T143339Z
UID:10020699-1741717800-1741721400@hlc.church
SUMMARY:High School Bible Study
DESCRIPTION:
URL:https://hlc.church/event/high-school-bible-study-2/2025-03-11/
LOCATION:Youth Center\, 8070 Rowan Road\, Cranberry Township\, PA\, 16066\, United States
END:VEVENT
BEGIN:VEVENT
DTSTART;TZID=America/New_York:20250223T090000
DTEND;TZID=America/New_York:20250223T094500
DTSTAMP:20260420T023110
CREATED:20241220T144335Z
LAST-MODIFIED:20241220T144337Z
UID:10021579-1740301200-1740303900@hlc.church
SUMMARY:Confirmation Group Activities
DESCRIPTION:
URL:https://hlc.church/event/confirmation-group-activities/2025-02-23/
LOCATION:Youth Center\, 8070 Rowan Road\, Cranberry Township\, PA\, 16066\, United States
END:VEVENT
BEGIN:VEVENT
DTSTART;TZID=America/New_York:20250219T124500
DTEND;TZID=America/New_York:20250219T153000
DTSTAMP:20260420T023110
CREATED:20241204T140037Z
LAST-MODIFIED:20260116T150205Z
UID:10020636-1739969100-1739979000@hlc.church
SUMMARY:J.O.Y. (Just Older Youth) Group
DESCRIPTION:
URL:https://hlc.church/event/j-o-y-just-older-youth-group/2025-02-19/
LOCATION:Youth Center\, 8070 Rowan Road\, Cranberry Township\, PA\, 16066\, United States
END:VEVENT
BEGIN:VEVENT
DTSTART;TZID=America/New_York:20250210T183000
DTEND;TZID=America/New_York:20250210T193000
DTSTAMP:20260420T023110
CREATED:20241210T182344Z
LAST-MODIFIED:20241219T143339Z
UID:10020698-1739212200-1739215800@hlc.church
SUMMARY:High School Bible Study
DESCRIPTION:
URL:https://hlc.church/event/high-school-bible-study-2/2025-02-10/
LOCATION:Youth Center\, 8070 Rowan Road\, Cranberry Township\, PA\, 16066\, United States
END:VEVENT
BEGIN:VEVENT
DTSTART;TZID=America/New_York:20250201T080000
DTEND;TZID=America/New_York:20250201T090000
DTSTAMP:20260420T023110
CREATED:20240815T130220Z
LAST-MODIFIED:20240815T130222Z
UID:10020457-1738396800-1738400400@hlc.church
SUMMARY:Men's Group Fellowship
DESCRIPTION:
URL:https://hlc.church/event/mens-group-fellowship/2025-02-01/
LOCATION:Youth Center\, 8070 Rowan Road\, Cranberry Township\, PA\, 16066\, United States
END:VEVENT
BEGIN:VEVENT
DTSTART;TZID=America/New_York:20250126T090000
DTEND;TZID=America/New_York:20250126T094500
DTSTAMP:20260420T023110
CREATED:20241220T144335Z
LAST-MODIFIED:20241220T144337Z
UID:10021578-1737882000-1737884700@hlc.church
SUMMARY:Confirmation Group Activities
DESCRIPTION:
URL:https://hlc.church/event/confirmation-group-activities/2025-01-26/
LOCATION:Youth Center\, 8070 Rowan Road\, Cranberry Township\, PA\, 16066\, United States
END:VEVENT
BEGIN:VEVENT
DTSTART;TZID=America/New_York:20250115T124500
DTEND;TZID=America/New_York:20250115T153000
DTSTAMP:20260420T023110
CREATED:20241204T140037Z
LAST-MODIFIED:20260116T150205Z
UID:10020635-1736945100-1736955000@hlc.church
SUMMARY:J.O.Y. (Just Older Youth) Group
DESCRIPTION:
URL:https://hlc.church/event/j-o-y-just-older-youth-group/2025-01-15/
LOCATION:Youth Center\, 8070 Rowan Road\, Cranberry Township\, PA\, 16066\, United States
END:VEVENT
BEGIN:VEVENT
DTSTART;TZID=America/New_York:20250108T183000
DTEND;TZID=America/New_York:20250108T193000
DTSTAMP:20260420T023110
CREATED:20241210T182344Z
LAST-MODIFIED:20241219T143339Z
UID:10021574-1736361000-1736364600@hlc.church
SUMMARY:High School Bible Study
DESCRIPTION:
URL:https://hlc.church/event/high-school-bible-study-2/2025-01-08/
LOCATION:Youth Center\, 8070 Rowan Road\, Cranberry Township\, PA\, 16066\, United States
END:VEVENT
BEGIN:VEVENT
DTSTART;TZID=America/New_York:20241218T124500
DTEND;TZID=America/New_York:20241218T153000
DTSTAMP:20260420T023110
CREATED:20241204T140037Z
LAST-MODIFIED:20260116T150205Z
UID:10020634-1734525900-1734535800@hlc.church
SUMMARY:J.O.Y. (Just Older Youth) Group
DESCRIPTION:
URL:https://hlc.church/event/j-o-y-just-older-youth-group/2024-12-18/
LOCATION:Youth Center\, 8070 Rowan Road\, Cranberry Township\, PA\, 16066\, United States
END:VEVENT
BEGIN:VEVENT
DTSTART;TZID=America/New_York:20241207T080000
DTEND;TZID=America/New_York:20241207T090000
DTSTAMP:20260420T023110
CREATED:20240815T130220Z
LAST-MODIFIED:20240815T130222Z
UID:10020455-1733558400-1733562000@hlc.church
SUMMARY:Men's Group Fellowship
DESCRIPTION:
URL:https://hlc.church/event/mens-group-fellowship/2024-12-07/
LOCATION:Youth Center\, 8070 Rowan Road\, Cranberry Township\, PA\, 16066\, United States
END:VEVENT
BEGIN:VEVENT
DTSTART;TZID=America/New_York:20241102T080000
DTEND;TZID=America/New_York:20241102T090000
DTSTAMP:20260420T023110
CREATED:20240815T130220Z
LAST-MODIFIED:20240815T130222Z
UID:10020454-1730534400-1730538000@hlc.church
SUMMARY:Men's Group Fellowship
DESCRIPTION:
URL:https://hlc.church/event/mens-group-fellowship/2024-11-02/
LOCATION:Youth Center\, 8070 Rowan Road\, Cranberry Township\, PA\, 16066\, United States
END:VEVENT
BEGIN:VEVENT
DTSTART;TZID=America/New_York:20241005T080000
DTEND;TZID=America/New_York:20241005T090000
DTSTAMP:20260420T023110
CREATED:20240815T130220Z
LAST-MODIFIED:20240815T130222Z
UID:10020453-1728115200-1728118800@hlc.church
SUMMARY:Men's Group Fellowship
DESCRIPTION:
URL:https://hlc.church/event/mens-group-fellowship/2024-10-05/
LOCATION:Youth Center\, 8070 Rowan Road\, Cranberry Township\, PA\, 16066\, United States
END:VEVENT
END:VCALENDAR