BEGIN:VCALENDAR
VERSION:2.0
PRODID:-//Hope ELCA | Hope Lutheran Church - Cranberry Twp, Butler PA - ECPv6.15.20//NONSGML v1.0//EN
CALSCALE:GREGORIAN
METHOD:PUBLISH
X-ORIGINAL-URL:https://hlc.church
X-WR-CALDESC:Events for Hope ELCA | Hope Lutheran Church - Cranberry Twp, Butler PA
REFRESH-INTERVAL;VALUE=DURATION:PT1H
X-Robots-Tag:noindex
X-PUBLISHED-TTL:PT1H
BEGIN:VTIMEZONE
TZID:America/New_York
BEGIN:DAYLIGHT
TZOFFSETFROM:-0500
TZOFFSETTO:-0400
TZNAME:EDT
DTSTART:20250309T070000
END:DAYLIGHT
BEGIN:STANDARD
TZOFFSETFROM:-0400
TZOFFSETTO:-0500
TZNAME:EST
DTSTART:20251102T060000
END:STANDARD
BEGIN:DAYLIGHT
TZOFFSETFROM:-0500
TZOFFSETTO:-0400
TZNAME:EDT
DTSTART:20260308T070000
END:DAYLIGHT
BEGIN:STANDARD
TZOFFSETFROM:-0400
TZOFFSETTO:-0500
TZNAME:EST
DTSTART:20261101T060000
END:STANDARD
BEGIN:DAYLIGHT
TZOFFSETFROM:-0500
TZOFFSETTO:-0400
TZNAME:EDT
DTSTART:20270314T070000
END:DAYLIGHT
BEGIN:STANDARD
TZOFFSETFROM:-0400
TZOFFSETTO:-0500
TZNAME:EST
DTSTART:20271107T060000
END:STANDARD
BEGIN:DAYLIGHT
TZOFFSETFROM:-0500
TZOFFSETTO:-0400
TZNAME:EDT
DTSTART:20280312T070000
END:DAYLIGHT
BEGIN:STANDARD
TZOFFSETFROM:-0400
TZOFFSETTO:-0500
TZNAME:EST
DTSTART:20281105T060000
END:STANDARD
BEGIN:DAYLIGHT
TZOFFSETFROM:-0500
TZOFFSETTO:-0400
TZNAME:EDT
DTSTART:20290311T070000
END:DAYLIGHT
BEGIN:STANDARD
TZOFFSETFROM:-0400
TZOFFSETTO:-0500
TZNAME:EST
DTSTART:20291104T060000
END:STANDARD
END:VTIMEZONE
BEGIN:VEVENT
DTSTART;TZID=America/New_York:20260502T080000
DTEND;TZID=America/New_York:20260502T090000
DTSTAMP:20260419T210944
CREATED:20260202T191213Z
LAST-MODIFIED:20260317T181104Z
UID:10023775-1777708800-1777712400@hlc.church
SUMMARY:Men's Study with Pastor Ron
DESCRIPTION:
URL:https://hlc.church/event/mens-study-with-pastor-ron/2026-05-02/
LOCATION:Youth Center\, 8070 Rowan Road\, Cranberry Township\, PA\, 16066\, United States
ORGANIZER;CN="Pastor Ron Brown":MAILTO:pastorron@hlc.church
END:VEVENT
BEGIN:VEVENT
DTSTART;TZID=America/New_York:20260503T163000
DTEND;TZID=America/New_York:20260503T190000
DTSTAMP:20260419T210944
CREATED:20250814T132625Z
LAST-MODIFIED:20260205T172502Z
UID:10023454-1777825800-1777834800@hlc.church
SUMMARY:Middle/High School Youth Night
DESCRIPTION:
URL:https://hlc.church/event/middle-high-school-youth-night/2026-05-03/
LOCATION:Youth Center\, 8070 Rowan Road\, Cranberry Township\, PA\, 16066\, United States
END:VEVENT
BEGIN:VEVENT
DTSTART;TZID=America/New_York:20260517T163000
DTEND;TZID=America/New_York:20260517T180000
DTSTAMP:20260419T210944
CREATED:20250814T132904Z
LAST-MODIFIED:20260306T203009Z
UID:10024111-1779035400-1779040800@hlc.church
SUMMARY:Elementary Youth Night
DESCRIPTION:
URL:https://hlc.church/event/elementary-youth-night/2026-05-17/
LOCATION:Youth Center\, 8070 Rowan Road\, Cranberry Township\, PA\, 16066\, United States
END:VEVENT
BEGIN:VEVENT
DTSTART;TZID=America/New_York:20260520T124500
DTEND;TZID=America/New_York:20260520T153000
DTSTAMP:20260419T210944
CREATED:20241204T140037Z
LAST-MODIFIED:20260116T150205Z
UID:10020651-1779281100-1779291000@hlc.church
SUMMARY:J.O.Y. (Just Older Youth) Group
DESCRIPTION:
URL:https://hlc.church/event/j-o-y-just-older-youth-group/2026-05-20/
LOCATION:Youth Center\, 8070 Rowan Road\, Cranberry Township\, PA\, 16066\, United States
END:VEVENT
BEGIN:VEVENT
DTSTART;TZID=America/New_York:20260606T080000
DTEND;TZID=America/New_York:20260606T090000
DTSTAMP:20260419T210944
CREATED:20260202T191213Z
LAST-MODIFIED:20260317T181104Z
UID:10023776-1780732800-1780736400@hlc.church
SUMMARY:Men's Study with Pastor Ron
DESCRIPTION:
URL:https://hlc.church/event/mens-study-with-pastor-ron/2026-06-06/
LOCATION:Youth Center\, 8070 Rowan Road\, Cranberry Township\, PA\, 16066\, United States
ORGANIZER;CN="Pastor Ron Brown":MAILTO:pastorron@hlc.church
END:VEVENT
BEGIN:VEVENT
DTSTART;TZID=America/New_York:20260617T124500
DTEND;TZID=America/New_York:20260617T153000
DTSTAMP:20260419T210944
CREATED:20241204T140037Z
LAST-MODIFIED:20260116T150205Z
UID:10020652-1781700300-1781710200@hlc.church
SUMMARY:J.O.Y. (Just Older Youth) Group
DESCRIPTION:
URL:https://hlc.church/event/j-o-y-just-older-youth-group/2026-06-17/
LOCATION:Youth Center\, 8070 Rowan Road\, Cranberry Township\, PA\, 16066\, United States
END:VEVENT
BEGIN:VEVENT
DTSTART;TZID=America/New_York:20260715T124500
DTEND;TZID=America/New_York:20260715T153000
DTSTAMP:20260419T210944
CREATED:20241204T140037Z
LAST-MODIFIED:20260116T150205Z
UID:10020653-1784119500-1784129400@hlc.church
SUMMARY:J.O.Y. (Just Older Youth) Group
DESCRIPTION:
URL:https://hlc.church/event/j-o-y-just-older-youth-group/2026-07-15/
LOCATION:Youth Center\, 8070 Rowan Road\, Cranberry Township\, PA\, 16066\, United States
END:VEVENT
BEGIN:VEVENT
DTSTART;TZID=America/New_York:20260819T124500
DTEND;TZID=America/New_York:20260819T153000
DTSTAMP:20260419T210944
CREATED:20241204T140037Z
LAST-MODIFIED:20260116T150205Z
UID:10020654-1787143500-1787153400@hlc.church
SUMMARY:J.O.Y. (Just Older Youth) Group
DESCRIPTION:
URL:https://hlc.church/event/j-o-y-just-older-youth-group/2026-08-19/
LOCATION:Youth Center\, 8070 Rowan Road\, Cranberry Township\, PA\, 16066\, United States
END:VEVENT
BEGIN:VEVENT
DTSTART;TZID=America/New_York:20260916T124500
DTEND;TZID=America/New_York:20260916T153000
DTSTAMP:20260419T210944
CREATED:20241204T140037Z
LAST-MODIFIED:20260116T150205Z
UID:10020655-1789562700-1789572600@hlc.church
SUMMARY:J.O.Y. (Just Older Youth) Group
DESCRIPTION:
URL:https://hlc.church/event/j-o-y-just-older-youth-group/2026-09-16/
LOCATION:Youth Center\, 8070 Rowan Road\, Cranberry Township\, PA\, 16066\, United States
END:VEVENT
BEGIN:VEVENT
DTSTART;TZID=America/New_York:20261021T124500
DTEND;TZID=America/New_York:20261021T153000
DTSTAMP:20260419T210944
CREATED:20241204T140037Z
LAST-MODIFIED:20260116T150205Z
UID:10020656-1792586700-1792596600@hlc.church
SUMMARY:J.O.Y. (Just Older Youth) Group
DESCRIPTION:
URL:https://hlc.church/event/j-o-y-just-older-youth-group/2026-10-21/
LOCATION:Youth Center\, 8070 Rowan Road\, Cranberry Township\, PA\, 16066\, United States
END:VEVENT
BEGIN:VEVENT
DTSTART;TZID=America/New_York:20261118T124500
DTEND;TZID=America/New_York:20261118T153000
DTSTAMP:20260419T210944
CREATED:20241204T140037Z
LAST-MODIFIED:20260116T150205Z
UID:10020657-1795005900-1795015800@hlc.church
SUMMARY:J.O.Y. (Just Older Youth) Group
DESCRIPTION:
URL:https://hlc.church/event/j-o-y-just-older-youth-group/2026-11-18/
LOCATION:Youth Center\, 8070 Rowan Road\, Cranberry Township\, PA\, 16066\, United States
END:VEVENT
BEGIN:VEVENT
DTSTART;TZID=America/New_York:20261216T124500
DTEND;TZID=America/New_York:20261216T153000
DTSTAMP:20260419T210944
CREATED:20241204T140037Z
LAST-MODIFIED:20260116T150205Z
UID:10020658-1797425100-1797435000@hlc.church
SUMMARY:J.O.Y. (Just Older Youth) Group
DESCRIPTION:
URL:https://hlc.church/event/j-o-y-just-older-youth-group/2026-12-16/
LOCATION:Youth Center\, 8070 Rowan Road\, Cranberry Township\, PA\, 16066\, United States
END:VEVENT
BEGIN:VEVENT
DTSTART;TZID=America/New_York:20270120T124500
DTEND;TZID=America/New_York:20270120T153000
DTSTAMP:20260419T210944
CREATED:20241204T140037Z
LAST-MODIFIED:20260116T150205Z
UID:10020659-1800449100-1800459000@hlc.church
SUMMARY:J.O.Y. (Just Older Youth) Group
DESCRIPTION:
URL:https://hlc.church/event/j-o-y-just-older-youth-group/2027-01-20/
LOCATION:Youth Center\, 8070 Rowan Road\, Cranberry Township\, PA\, 16066\, United States
END:VEVENT
BEGIN:VEVENT
DTSTART;TZID=America/New_York:20270217T124500
DTEND;TZID=America/New_York:20270217T153000
DTSTAMP:20260419T210944
CREATED:20241204T140037Z
LAST-MODIFIED:20260116T150205Z
UID:10020660-1802868300-1802878200@hlc.church
SUMMARY:J.O.Y. (Just Older Youth) Group
DESCRIPTION:
URL:https://hlc.church/event/j-o-y-just-older-youth-group/2027-02-17/
LOCATION:Youth Center\, 8070 Rowan Road\, Cranberry Township\, PA\, 16066\, United States
END:VEVENT
BEGIN:VEVENT
DTSTART;TZID=America/New_York:20270317T124500
DTEND;TZID=America/New_York:20270317T153000
DTSTAMP:20260419T210944
CREATED:20241204T140037Z
LAST-MODIFIED:20260116T150205Z
UID:10020661-1805287500-1805297400@hlc.church
SUMMARY:J.O.Y. (Just Older Youth) Group
DESCRIPTION:
URL:https://hlc.church/event/j-o-y-just-older-youth-group/2027-03-17/
LOCATION:Youth Center\, 8070 Rowan Road\, Cranberry Township\, PA\, 16066\, United States
END:VEVENT
BEGIN:VEVENT
DTSTART;TZID=America/New_York:20270421T124500
DTEND;TZID=America/New_York:20270421T153000
DTSTAMP:20260419T210944
CREATED:20241204T140037Z
LAST-MODIFIED:20260116T150205Z
UID:10020662-1808311500-1808321400@hlc.church
SUMMARY:J.O.Y. (Just Older Youth) Group
DESCRIPTION:
URL:https://hlc.church/event/j-o-y-just-older-youth-group/2027-04-21/
LOCATION:Youth Center\, 8070 Rowan Road\, Cranberry Township\, PA\, 16066\, United States
END:VEVENT
BEGIN:VEVENT
DTSTART;TZID=America/New_York:20270519T124500
DTEND;TZID=America/New_York:20270519T153000
DTSTAMP:20260419T210944
CREATED:20241204T140037Z
LAST-MODIFIED:20260116T150205Z
UID:10020663-1810730700-1810740600@hlc.church
SUMMARY:J.O.Y. (Just Older Youth) Group
DESCRIPTION:
URL:https://hlc.church/event/j-o-y-just-older-youth-group/2027-05-19/
LOCATION:Youth Center\, 8070 Rowan Road\, Cranberry Township\, PA\, 16066\, United States
END:VEVENT
BEGIN:VEVENT
DTSTART;TZID=America/New_York:20270616T124500
DTEND;TZID=America/New_York:20270616T153000
DTSTAMP:20260419T210944
CREATED:20241204T140037Z
LAST-MODIFIED:20260116T150205Z
UID:10020664-1813149900-1813159800@hlc.church
SUMMARY:J.O.Y. (Just Older Youth) Group
DESCRIPTION:
URL:https://hlc.church/event/j-o-y-just-older-youth-group/2027-06-16/
LOCATION:Youth Center\, 8070 Rowan Road\, Cranberry Township\, PA\, 16066\, United States
END:VEVENT
BEGIN:VEVENT
DTSTART;TZID=America/New_York:20270721T124500
DTEND;TZID=America/New_York:20270721T153000
DTSTAMP:20260419T210944
CREATED:20241204T140037Z
LAST-MODIFIED:20260116T150205Z
UID:10020665-1816173900-1816183800@hlc.church
SUMMARY:J.O.Y. (Just Older Youth) Group
DESCRIPTION:
URL:https://hlc.church/event/j-o-y-just-older-youth-group/2027-07-21/
LOCATION:Youth Center\, 8070 Rowan Road\, Cranberry Township\, PA\, 16066\, United States
END:VEVENT
BEGIN:VEVENT
DTSTART;TZID=America/New_York:20270818T124500
DTEND;TZID=America/New_York:20270818T153000
DTSTAMP:20260419T210944
CREATED:20241204T140037Z
LAST-MODIFIED:20260116T150205Z
UID:10020666-1818593100-1818603000@hlc.church
SUMMARY:J.O.Y. (Just Older Youth) Group
DESCRIPTION:
URL:https://hlc.church/event/j-o-y-just-older-youth-group/2027-08-18/
LOCATION:Youth Center\, 8070 Rowan Road\, Cranberry Township\, PA\, 16066\, United States
END:VEVENT
BEGIN:VEVENT
DTSTART;TZID=America/New_York:20270915T124500
DTEND;TZID=America/New_York:20270915T153000
DTSTAMP:20260419T210944
CREATED:20241204T140037Z
LAST-MODIFIED:20260116T150205Z
UID:10020667-1821012300-1821022200@hlc.church
SUMMARY:J.O.Y. (Just Older Youth) Group
DESCRIPTION:
URL:https://hlc.church/event/j-o-y-just-older-youth-group/2027-09-15/
LOCATION:Youth Center\, 8070 Rowan Road\, Cranberry Township\, PA\, 16066\, United States
END:VEVENT
BEGIN:VEVENT
DTSTART;TZID=America/New_York:20271020T124500
DTEND;TZID=America/New_York:20271020T153000
DTSTAMP:20260419T210944
CREATED:20241204T140037Z
LAST-MODIFIED:20260116T150205Z
UID:10020668-1824036300-1824046200@hlc.church
SUMMARY:J.O.Y. (Just Older Youth) Group
DESCRIPTION:
URL:https://hlc.church/event/j-o-y-just-older-youth-group/2027-10-20/
LOCATION:Youth Center\, 8070 Rowan Road\, Cranberry Township\, PA\, 16066\, United States
END:VEVENT
BEGIN:VEVENT
DTSTART;TZID=America/New_York:20271117T124500
DTEND;TZID=America/New_York:20271117T153000
DTSTAMP:20260419T210944
CREATED:20241204T140037Z
LAST-MODIFIED:20260116T150205Z
UID:10020669-1826455500-1826465400@hlc.church
SUMMARY:J.O.Y. (Just Older Youth) Group
DESCRIPTION:
URL:https://hlc.church/event/j-o-y-just-older-youth-group/2027-11-17/
LOCATION:Youth Center\, 8070 Rowan Road\, Cranberry Township\, PA\, 16066\, United States
END:VEVENT
BEGIN:VEVENT
DTSTART;TZID=America/New_York:20271215T124500
DTEND;TZID=America/New_York:20271215T153000
DTSTAMP:20260419T210944
CREATED:20241204T140037Z
LAST-MODIFIED:20260116T150205Z
UID:10020670-1828874700-1828884600@hlc.church
SUMMARY:J.O.Y. (Just Older Youth) Group
DESCRIPTION:
URL:https://hlc.church/event/j-o-y-just-older-youth-group/2027-12-15/
LOCATION:Youth Center\, 8070 Rowan Road\, Cranberry Township\, PA\, 16066\, United States
END:VEVENT
BEGIN:VEVENT
DTSTART;TZID=America/New_York:20280119T124500
DTEND;TZID=America/New_York:20280119T153000
DTSTAMP:20260419T210944
CREATED:20241204T140037Z
LAST-MODIFIED:20260116T150205Z
UID:10020671-1831898700-1831908600@hlc.church
SUMMARY:J.O.Y. (Just Older Youth) Group
DESCRIPTION:
URL:https://hlc.church/event/j-o-y-just-older-youth-group/2028-01-19/
LOCATION:Youth Center\, 8070 Rowan Road\, Cranberry Township\, PA\, 16066\, United States
END:VEVENT
BEGIN:VEVENT
DTSTART;TZID=America/New_York:20280216T124500
DTEND;TZID=America/New_York:20280216T153000
DTSTAMP:20260419T210944
CREATED:20241204T140037Z
LAST-MODIFIED:20260116T150205Z
UID:10020672-1834317900-1834327800@hlc.church
SUMMARY:J.O.Y. (Just Older Youth) Group
DESCRIPTION:
URL:https://hlc.church/event/j-o-y-just-older-youth-group/2028-02-16/
LOCATION:Youth Center\, 8070 Rowan Road\, Cranberry Township\, PA\, 16066\, United States
END:VEVENT
BEGIN:VEVENT
DTSTART;TZID=America/New_York:20280315T124500
DTEND;TZID=America/New_York:20280315T153000
DTSTAMP:20260419T210944
CREATED:20241204T140037Z
LAST-MODIFIED:20260116T150205Z
UID:10020673-1836737100-1836747000@hlc.church
SUMMARY:J.O.Y. (Just Older Youth) Group
DESCRIPTION:
URL:https://hlc.church/event/j-o-y-just-older-youth-group/2028-03-15/
LOCATION:Youth Center\, 8070 Rowan Road\, Cranberry Township\, PA\, 16066\, United States
END:VEVENT
BEGIN:VEVENT
DTSTART;TZID=America/New_York:20280419T124500
DTEND;TZID=America/New_York:20280419T153000
DTSTAMP:20260419T210944
CREATED:20241204T140037Z
LAST-MODIFIED:20260116T150205Z
UID:10020674-1839761100-1839771000@hlc.church
SUMMARY:J.O.Y. (Just Older Youth) Group
DESCRIPTION:
URL:https://hlc.church/event/j-o-y-just-older-youth-group/2028-04-19/
LOCATION:Youth Center\, 8070 Rowan Road\, Cranberry Township\, PA\, 16066\, United States
END:VEVENT
BEGIN:VEVENT
DTSTART;TZID=America/New_York:20280517T124500
DTEND;TZID=America/New_York:20280517T153000
DTSTAMP:20260419T210944
CREATED:20241204T140037Z
LAST-MODIFIED:20260116T150205Z
UID:10020675-1842180300-1842190200@hlc.church
SUMMARY:J.O.Y. (Just Older Youth) Group
DESCRIPTION:
URL:https://hlc.church/event/j-o-y-just-older-youth-group/2028-05-17/
LOCATION:Youth Center\, 8070 Rowan Road\, Cranberry Township\, PA\, 16066\, United States
END:VEVENT
BEGIN:VEVENT
DTSTART;TZID=America/New_York:20280621T124500
DTEND;TZID=America/New_York:20280621T153000
DTSTAMP:20260419T210944
CREATED:20241204T140037Z
LAST-MODIFIED:20260116T150205Z
UID:10020676-1845204300-1845214200@hlc.church
SUMMARY:J.O.Y. (Just Older Youth) Group
DESCRIPTION:
URL:https://hlc.church/event/j-o-y-just-older-youth-group/2028-06-21/
LOCATION:Youth Center\, 8070 Rowan Road\, Cranberry Township\, PA\, 16066\, United States
END:VEVENT
END:VCALENDAR