BEGIN:VCALENDAR
VERSION:2.0
PRODID:-//Hope ELCA | Hope Lutheran Church - Cranberry Twp, Butler PA - ECPv6.15.20//NONSGML v1.0//EN
CALSCALE:GREGORIAN
METHOD:PUBLISH
X-WR-CALNAME:Hope ELCA | Hope Lutheran Church - Cranberry Twp, Butler PA
X-ORIGINAL-URL:https://hlc.church
X-WR-CALDESC:Events for Hope ELCA | Hope Lutheran Church - Cranberry Twp, Butler PA
REFRESH-INTERVAL;VALUE=DURATION:PT1H
X-Robots-Tag:noindex
X-PUBLISHED-TTL:PT1H
BEGIN:VTIMEZONE
TZID:America/New_York
BEGIN:DAYLIGHT
TZOFFSETFROM:-0500
TZOFFSETTO:-0400
TZNAME:EDT
DTSTART:20250309T070000
END:DAYLIGHT
BEGIN:STANDARD
TZOFFSETFROM:-0400
TZOFFSETTO:-0500
TZNAME:EST
DTSTART:20251102T060000
END:STANDARD
BEGIN:DAYLIGHT
TZOFFSETFROM:-0500
TZOFFSETTO:-0400
TZNAME:EDT
DTSTART:20260308T070000
END:DAYLIGHT
BEGIN:STANDARD
TZOFFSETFROM:-0400
TZOFFSETTO:-0500
TZNAME:EST
DTSTART:20261101T060000
END:STANDARD
BEGIN:DAYLIGHT
TZOFFSETFROM:-0500
TZOFFSETTO:-0400
TZNAME:EDT
DTSTART:20270314T070000
END:DAYLIGHT
BEGIN:STANDARD
TZOFFSETFROM:-0400
TZOFFSETTO:-0500
TZNAME:EST
DTSTART:20271107T060000
END:STANDARD
BEGIN:DAYLIGHT
TZOFFSETFROM:-0500
TZOFFSETTO:-0400
TZNAME:EDT
DTSTART:20280312T070000
END:DAYLIGHT
BEGIN:STANDARD
TZOFFSETFROM:-0400
TZOFFSETTO:-0500
TZNAME:EST
DTSTART:20281105T060000
END:STANDARD
BEGIN:DAYLIGHT
TZOFFSETFROM:-0500
TZOFFSETTO:-0400
TZNAME:EDT
DTSTART:20290311T070000
END:DAYLIGHT
BEGIN:STANDARD
TZOFFSETFROM:-0400
TZOFFSETTO:-0500
TZNAME:EST
DTSTART:20291104T060000
END:STANDARD
END:VTIMEZONE
BEGIN:VEVENT
DTSTART;TZID=America/New_York:20260519T190000
DTEND;TZID=America/New_York:20260519T200000
DTSTAMP:20260422T052356
CREATED:20251210T145705Z
LAST-MODIFIED:20251210T145707Z
UID:10022712-1779217200-1779220800@hlc.church
SUMMARY:HLC Board Meeting
DESCRIPTION:
URL:https://hlc.church/event/hlc-board-meeting/2026-05-19/
LOCATION:Zoom Meeting
END:VEVENT
BEGIN:VEVENT
DTSTART;TZID=America/New_York:20260616T190000
DTEND;TZID=America/New_York:20260616T200000
DTSTAMP:20260422T052356
CREATED:20251210T145705Z
LAST-MODIFIED:20251210T145707Z
UID:10022713-1781636400-1781640000@hlc.church
SUMMARY:HLC Board Meeting
DESCRIPTION:
URL:https://hlc.church/event/hlc-board-meeting/2026-06-16/
LOCATION:Zoom Meeting
END:VEVENT
BEGIN:VEVENT
DTSTART;TZID=America/New_York:20260721T190000
DTEND;TZID=America/New_York:20260721T200000
DTSTAMP:20260422T052356
CREATED:20251210T145705Z
LAST-MODIFIED:20251210T145707Z
UID:10022714-1784660400-1784664000@hlc.church
SUMMARY:HLC Board Meeting
DESCRIPTION:
URL:https://hlc.church/event/hlc-board-meeting/2026-07-21/
LOCATION:Zoom Meeting
END:VEVENT
BEGIN:VEVENT
DTSTART;TZID=America/New_York:20260818T190000
DTEND;TZID=America/New_York:20260818T200000
DTSTAMP:20260422T052356
CREATED:20251210T145705Z
LAST-MODIFIED:20251210T145707Z
UID:10022715-1787079600-1787083200@hlc.church
SUMMARY:HLC Board Meeting
DESCRIPTION:
URL:https://hlc.church/event/hlc-board-meeting/2026-08-18/
LOCATION:Zoom Meeting
END:VEVENT
BEGIN:VEVENT
DTSTART;TZID=America/New_York:20260915T190000
DTEND;TZID=America/New_York:20260915T200000
DTSTAMP:20260422T052356
CREATED:20251210T145705Z
LAST-MODIFIED:20251210T145707Z
UID:10022716-1789498800-1789502400@hlc.church
SUMMARY:HLC Board Meeting
DESCRIPTION:
URL:https://hlc.church/event/hlc-board-meeting/2026-09-15/
LOCATION:Zoom Meeting
END:VEVENT
BEGIN:VEVENT
DTSTART;TZID=America/New_York:20261020T190000
DTEND;TZID=America/New_York:20261020T200000
DTSTAMP:20260422T052356
CREATED:20251210T145705Z
LAST-MODIFIED:20251210T145707Z
UID:10022717-1792522800-1792526400@hlc.church
SUMMARY:HLC Board Meeting
DESCRIPTION:
URL:https://hlc.church/event/hlc-board-meeting/2026-10-20/
LOCATION:Zoom Meeting
END:VEVENT
BEGIN:VEVENT
DTSTART;TZID=America/New_York:20261117T190000
DTEND;TZID=America/New_York:20261117T200000
DTSTAMP:20260422T052356
CREATED:20251210T145705Z
LAST-MODIFIED:20251210T145707Z
UID:10022718-1794942000-1794945600@hlc.church
SUMMARY:HLC Board Meeting
DESCRIPTION:
URL:https://hlc.church/event/hlc-board-meeting/2026-11-17/
LOCATION:Zoom Meeting
END:VEVENT
BEGIN:VEVENT
DTSTART;TZID=America/New_York:20261215T190000
DTEND;TZID=America/New_York:20261215T200000
DTSTAMP:20260422T052356
CREATED:20251210T145705Z
LAST-MODIFIED:20251210T145707Z
UID:10022719-1797361200-1797364800@hlc.church
SUMMARY:HLC Board Meeting
DESCRIPTION:
URL:https://hlc.church/event/hlc-board-meeting/2026-12-15/
LOCATION:Zoom Meeting
END:VEVENT
BEGIN:VEVENT
DTSTART;TZID=America/New_York:20270119T190000
DTEND;TZID=America/New_York:20270119T200000
DTSTAMP:20260422T052356
CREATED:20251210T145705Z
LAST-MODIFIED:20251210T145707Z
UID:10022720-1800385200-1800388800@hlc.church
SUMMARY:HLC Board Meeting
DESCRIPTION:
URL:https://hlc.church/event/hlc-board-meeting/2027-01-19/
LOCATION:Zoom Meeting
END:VEVENT
BEGIN:VEVENT
DTSTART;TZID=America/New_York:20270216T190000
DTEND;TZID=America/New_York:20270216T200000
DTSTAMP:20260422T052356
CREATED:20251210T145705Z
LAST-MODIFIED:20251210T145707Z
UID:10022721-1802804400-1802808000@hlc.church
SUMMARY:HLC Board Meeting
DESCRIPTION:
URL:https://hlc.church/event/hlc-board-meeting/2027-02-16/
LOCATION:Zoom Meeting
END:VEVENT
BEGIN:VEVENT
DTSTART;TZID=America/New_York:20270316T190000
DTEND;TZID=America/New_York:20270316T200000
DTSTAMP:20260422T052356
CREATED:20251210T145705Z
LAST-MODIFIED:20251210T145707Z
UID:10022722-1805223600-1805227200@hlc.church
SUMMARY:HLC Board Meeting
DESCRIPTION:
URL:https://hlc.church/event/hlc-board-meeting/2027-03-16/
LOCATION:Zoom Meeting
END:VEVENT
BEGIN:VEVENT
DTSTART;TZID=America/New_York:20270420T190000
DTEND;TZID=America/New_York:20270420T200000
DTSTAMP:20260422T052356
CREATED:20251210T145705Z
LAST-MODIFIED:20251210T145707Z
UID:10022723-1808247600-1808251200@hlc.church
SUMMARY:HLC Board Meeting
DESCRIPTION:
URL:https://hlc.church/event/hlc-board-meeting/2027-04-20/
LOCATION:Zoom Meeting
END:VEVENT
BEGIN:VEVENT
DTSTART;TZID=America/New_York:20270518T190000
DTEND;TZID=America/New_York:20270518T200000
DTSTAMP:20260422T052356
CREATED:20251210T145705Z
LAST-MODIFIED:20251210T145707Z
UID:10022724-1810666800-1810670400@hlc.church
SUMMARY:HLC Board Meeting
DESCRIPTION:
URL:https://hlc.church/event/hlc-board-meeting/2027-05-18/
LOCATION:Zoom Meeting
END:VEVENT
BEGIN:VEVENT
DTSTART;TZID=America/New_York:20270615T190000
DTEND;TZID=America/New_York:20270615T200000
DTSTAMP:20260422T052356
CREATED:20251210T145705Z
LAST-MODIFIED:20251210T145707Z
UID:10022725-1813086000-1813089600@hlc.church
SUMMARY:HLC Board Meeting
DESCRIPTION:
URL:https://hlc.church/event/hlc-board-meeting/2027-06-15/
LOCATION:Zoom Meeting
END:VEVENT
BEGIN:VEVENT
DTSTART;TZID=America/New_York:20270720T190000
DTEND;TZID=America/New_York:20270720T200000
DTSTAMP:20260422T052356
CREATED:20251210T145705Z
LAST-MODIFIED:20251210T145707Z
UID:10022726-1816110000-1816113600@hlc.church
SUMMARY:HLC Board Meeting
DESCRIPTION:
URL:https://hlc.church/event/hlc-board-meeting/2027-07-20/
LOCATION:Zoom Meeting
END:VEVENT
BEGIN:VEVENT
DTSTART;TZID=America/New_York:20270817T190000
DTEND;TZID=America/New_York:20270817T200000
DTSTAMP:20260422T052356
CREATED:20251210T145705Z
LAST-MODIFIED:20251210T145707Z
UID:10022727-1818529200-1818532800@hlc.church
SUMMARY:HLC Board Meeting
DESCRIPTION:
URL:https://hlc.church/event/hlc-board-meeting/2027-08-17/
LOCATION:Zoom Meeting
END:VEVENT
BEGIN:VEVENT
DTSTART;TZID=America/New_York:20270921T190000
DTEND;TZID=America/New_York:20270921T200000
DTSTAMP:20260422T052356
CREATED:20251210T145705Z
LAST-MODIFIED:20251210T145707Z
UID:10022728-1821553200-1821556800@hlc.church
SUMMARY:HLC Board Meeting
DESCRIPTION:
URL:https://hlc.church/event/hlc-board-meeting/2027-09-21/
LOCATION:Zoom Meeting
END:VEVENT
BEGIN:VEVENT
DTSTART;TZID=America/New_York:20271019T190000
DTEND;TZID=America/New_York:20271019T200000
DTSTAMP:20260422T052356
CREATED:20251210T145705Z
LAST-MODIFIED:20251210T145707Z
UID:10022729-1823972400-1823976000@hlc.church
SUMMARY:HLC Board Meeting
DESCRIPTION:
URL:https://hlc.church/event/hlc-board-meeting/2027-10-19/
LOCATION:Zoom Meeting
END:VEVENT
BEGIN:VEVENT
DTSTART;TZID=America/New_York:20271116T190000
DTEND;TZID=America/New_York:20271116T200000
DTSTAMP:20260422T052356
CREATED:20251210T145705Z
LAST-MODIFIED:20251210T145707Z
UID:10022730-1826391600-1826395200@hlc.church
SUMMARY:HLC Board Meeting
DESCRIPTION:
URL:https://hlc.church/event/hlc-board-meeting/2027-11-16/
LOCATION:Zoom Meeting
END:VEVENT
BEGIN:VEVENT
DTSTART;TZID=America/New_York:20271221T190000
DTEND;TZID=America/New_York:20271221T200000
DTSTAMP:20260422T052356
CREATED:20251210T145705Z
LAST-MODIFIED:20251210T145707Z
UID:10022731-1829415600-1829419200@hlc.church
SUMMARY:HLC Board Meeting
DESCRIPTION:
URL:https://hlc.church/event/hlc-board-meeting/2027-12-21/
LOCATION:Zoom Meeting
END:VEVENT
BEGIN:VEVENT
DTSTART;TZID=America/New_York:20280118T190000
DTEND;TZID=America/New_York:20280118T200000
DTSTAMP:20260422T052356
CREATED:20251210T145705Z
LAST-MODIFIED:20251210T145707Z
UID:10022732-1831834800-1831838400@hlc.church
SUMMARY:HLC Board Meeting
DESCRIPTION:
URL:https://hlc.church/event/hlc-board-meeting/2028-01-18/
LOCATION:Zoom Meeting
END:VEVENT
BEGIN:VEVENT
DTSTART;TZID=America/New_York:20280215T190000
DTEND;TZID=America/New_York:20280215T200000
DTSTAMP:20260422T052356
CREATED:20251210T145705Z
LAST-MODIFIED:20251210T145707Z
UID:10022733-1834254000-1834257600@hlc.church
SUMMARY:HLC Board Meeting
DESCRIPTION:
URL:https://hlc.church/event/hlc-board-meeting/2028-02-15/
LOCATION:Zoom Meeting
END:VEVENT
BEGIN:VEVENT
DTSTART;TZID=America/New_York:20280321T190000
DTEND;TZID=America/New_York:20280321T200000
DTSTAMP:20260422T052356
CREATED:20251210T145705Z
LAST-MODIFIED:20251210T145707Z
UID:10022734-1837278000-1837281600@hlc.church
SUMMARY:HLC Board Meeting
DESCRIPTION:
URL:https://hlc.church/event/hlc-board-meeting/2028-03-21/
LOCATION:Zoom Meeting
END:VEVENT
BEGIN:VEVENT
DTSTART;TZID=America/New_York:20280418T190000
DTEND;TZID=America/New_York:20280418T200000
DTSTAMP:20260422T052356
CREATED:20251210T145705Z
LAST-MODIFIED:20251210T145707Z
UID:10022735-1839697200-1839700800@hlc.church
SUMMARY:HLC Board Meeting
DESCRIPTION:
URL:https://hlc.church/event/hlc-board-meeting/2028-04-18/
LOCATION:Zoom Meeting
END:VEVENT
BEGIN:VEVENT
DTSTART;TZID=America/New_York:20280516T190000
DTEND;TZID=America/New_York:20280516T200000
DTSTAMP:20260422T052356
CREATED:20251210T145705Z
LAST-MODIFIED:20251210T145707Z
UID:10022736-1842116400-1842120000@hlc.church
SUMMARY:HLC Board Meeting
DESCRIPTION:
URL:https://hlc.church/event/hlc-board-meeting/2028-05-16/
LOCATION:Zoom Meeting
END:VEVENT
BEGIN:VEVENT
DTSTART;TZID=America/New_York:20280620T190000
DTEND;TZID=America/New_York:20280620T200000
DTSTAMP:20260422T052356
CREATED:20251210T145705Z
LAST-MODIFIED:20251210T145707Z
UID:10022737-1845140400-1845144000@hlc.church
SUMMARY:HLC Board Meeting
DESCRIPTION:
URL:https://hlc.church/event/hlc-board-meeting/2028-06-20/
LOCATION:Zoom Meeting
END:VEVENT
BEGIN:VEVENT
DTSTART;TZID=America/New_York:20280718T190000
DTEND;TZID=America/New_York:20280718T200000
DTSTAMP:20260422T052356
CREATED:20251210T145705Z
LAST-MODIFIED:20251210T145707Z
UID:10022738-1847559600-1847563200@hlc.church
SUMMARY:HLC Board Meeting
DESCRIPTION:
URL:https://hlc.church/event/hlc-board-meeting/2028-07-18/
LOCATION:Zoom Meeting
END:VEVENT
BEGIN:VEVENT
DTSTART;TZID=America/New_York:20280815T190000
DTEND;TZID=America/New_York:20280815T200000
DTSTAMP:20260422T052356
CREATED:20251210T145705Z
LAST-MODIFIED:20251210T145707Z
UID:10022739-1849978800-1849982400@hlc.church
SUMMARY:HLC Board Meeting
DESCRIPTION:
URL:https://hlc.church/event/hlc-board-meeting/2028-08-15/
LOCATION:Zoom Meeting
END:VEVENT
BEGIN:VEVENT
DTSTART;TZID=America/New_York:20280919T190000
DTEND;TZID=America/New_York:20280919T200000
DTSTAMP:20260422T052356
CREATED:20251210T145705Z
LAST-MODIFIED:20251210T145707Z
UID:10022740-1853002800-1853006400@hlc.church
SUMMARY:HLC Board Meeting
DESCRIPTION:
URL:https://hlc.church/event/hlc-board-meeting/2028-09-19/
LOCATION:Zoom Meeting
END:VEVENT
BEGIN:VEVENT
DTSTART;TZID=America/New_York:20281017T190000
DTEND;TZID=America/New_York:20281017T200000
DTSTAMP:20260422T052356
CREATED:20251210T145705Z
LAST-MODIFIED:20251210T145707Z
UID:10022741-1855422000-1855425600@hlc.church
SUMMARY:HLC Board Meeting
DESCRIPTION:
URL:https://hlc.church/event/hlc-board-meeting/2028-10-17/
LOCATION:Zoom Meeting
END:VEVENT
END:VCALENDAR