BEGIN:VCALENDAR
VERSION:2.0
PRODID:-//Hope ELCA | Hope Lutheran Church - Cranberry Twp, Butler PA - ECPv6.15.20//NONSGML v1.0//EN
CALSCALE:GREGORIAN
METHOD:PUBLISH
X-ORIGINAL-URL:https://hlc.church
X-WR-CALDESC:Events for Hope ELCA | Hope Lutheran Church - Cranberry Twp, Butler PA
REFRESH-INTERVAL;VALUE=DURATION:PT1H
X-Robots-Tag:noindex
X-PUBLISHED-TTL:PT1H
BEGIN:VTIMEZONE
TZID:America/New_York
BEGIN:DAYLIGHT
TZOFFSETFROM:-0500
TZOFFSETTO:-0400
TZNAME:EDT
DTSTART:20250309T070000
END:DAYLIGHT
BEGIN:STANDARD
TZOFFSETFROM:-0400
TZOFFSETTO:-0500
TZNAME:EST
DTSTART:20251102T060000
END:STANDARD
BEGIN:DAYLIGHT
TZOFFSETFROM:-0500
TZOFFSETTO:-0400
TZNAME:EDT
DTSTART:20260308T070000
END:DAYLIGHT
BEGIN:STANDARD
TZOFFSETFROM:-0400
TZOFFSETTO:-0500
TZNAME:EST
DTSTART:20261101T060000
END:STANDARD
BEGIN:DAYLIGHT
TZOFFSETFROM:-0500
TZOFFSETTO:-0400
TZNAME:EDT
DTSTART:20270314T070000
END:DAYLIGHT
BEGIN:STANDARD
TZOFFSETFROM:-0400
TZOFFSETTO:-0500
TZNAME:EST
DTSTART:20271107T060000
END:STANDARD
END:VTIMEZONE
BEGIN:VEVENT
DTSTART;TZID=America/New_York:20260414T170000
DTEND;TZID=America/New_York:20260414T192500
DTSTAMP:20260421T045213
CREATED:20260107T134947Z
LAST-MODIFIED:20260107T141011Z
UID:10023214-1776186000-1776194700@hlc.church
SUMMARY:Soccer Shots
DESCRIPTION:
URL:https://hlc.church/event/soccer-shots/2026-04-14/
LOCATION:PA
END:VEVENT
BEGIN:VEVENT
DTSTART;TZID=America/New_York:20260414T183000
DTEND;TZID=America/New_York:20260414T200000
DTSTAMP:20260421T045213
CREATED:20260114T132103Z
LAST-MODIFIED:20260114T132111Z
UID:10022567-1776191400-1776196800@hlc.church
SUMMARY:G. S. Troop #71055
DESCRIPTION:
URL:https://hlc.church/event/g-s-troop-71055-2/2026-04-14/
LOCATION:Community Hall\, 8070 ROWAN RD\, CRANBERRY TOWNSHIP\, PA\, PA\, 16066\, United States
END:VEVENT
BEGIN:VEVENT
DTSTART;TZID=America/New_York:20260415T090000
DTEND;TZID=America/New_York:20260415T100000
DTSTAMP:20260421T045213
CREATED:20250120T201511Z
LAST-MODIFIED:20260325T185241Z
UID:10024470-1776243600-1776247200@hlc.church
SUMMARY:Bulletin Folding
DESCRIPTION:
URL:https://hlc.church/event/bulletin-folding/2026-04-15/
LOCATION:Community Hall\, 8070 ROWAN RD\, CRANBERRY TOWNSHIP\, PA\, PA\, 16066\, United States
END:VEVENT
BEGIN:VEVENT
DTSTART;TZID=America/New_York:20260415T100000
DTEND;TZID=America/New_York:20260415T110000
DTSTAMP:20260421T045213
CREATED:20250120T201430Z
LAST-MODIFIED:20251211T211659Z
UID:10021661-1776247200-1776250800@hlc.church
SUMMARY:Wednesday Bible Study
DESCRIPTION:
URL:https://hlc.church/event/wednesday-bible-study/2026-04-15/
LOCATION:Community Hall\, 8070 ROWAN RD\, CRANBERRY TOWNSHIP\, PA\, PA\, 16066\, United States
END:VEVENT
BEGIN:VEVENT
DTSTART;TZID=America/New_York:20260415T124500
DTEND;TZID=America/New_York:20260415T153000
DTSTAMP:20260421T045213
CREATED:20241204T140037Z
LAST-MODIFIED:20260116T150205Z
UID:10020650-1776257100-1776267000@hlc.church
SUMMARY:J.O.Y. (Just Older Youth) Group
DESCRIPTION:
URL:https://hlc.church/event/j-o-y-just-older-youth-group/2026-04-15/
LOCATION:Youth Center\, 8070 Rowan Road\, Cranberry Township\, PA\, 16066\, United States
END:VEVENT
BEGIN:VEVENT
DTSTART;TZID=America/New_York:20260415T170000
DTEND;TZID=America/New_York:20260415T210000
DTSTAMP:20260421T045213
CREATED:20250516T194358Z
LAST-MODIFIED:20251210T151806Z
UID:10022241-1776272400-1776286800@hlc.church
SUMMARY:Reality Tour - Set up
DESCRIPTION:
URL:https://hlc.church/event/reality-tour-set-up-6/2026-04-15/
LOCATION:Community Hall and Youth Center\, 8070 Rowan Road\, Cranberry Township\, PA\, 16066\, United States
END:VEVENT
BEGIN:VEVENT
DTSTART;TZID=America/New_York:20260415T183000
DTEND;TZID=America/New_York:20260415T193000
DTSTAMP:20260421T045213
CREATED:20260317T181159Z
LAST-MODIFIED:20260317T181200Z
UID:10024126-1776277800-1776281400@hlc.church
SUMMARY:Adult Choir Rehearsal
DESCRIPTION:
URL:https://hlc.church/event/adult-choir-rehearsal-2-2-2-2/2026-04-15/
LOCATION:Sanctuary\, 8070 Rowan Road\, Cranberry Township\, PA\, 16066\, United States
END:VEVENT
BEGIN:VEVENT
DTSTART;TZID=America/New_York:20260415T193000
DTEND;TZID=America/New_York:20260415T203000
DTSTAMP:20260421T045213
CREATED:20260407T165303Z
LAST-MODIFIED:20260407T165318Z
UID:10024734-1776281400-1776285000@hlc.church
SUMMARY:Unstuck Meeting
DESCRIPTION:
URL:https://hlc.church/event/unstuck-meeting-2/
LOCATION:Room 105 & 106\, 8070 Rowan Road\, Cranberry Township\, PA\, 16066\, United States
END:VEVENT
BEGIN:VEVENT
DTSTART;TZID=America/New_York:20260416T173000
DTEND;TZID=America/New_York:20260416T213000
DTSTAMP:20260421T045213
CREATED:20250516T194525Z
LAST-MODIFIED:20251210T151741Z
UID:10022245-1776360600-1776375000@hlc.church
SUMMARY:Reality Tour
DESCRIPTION:
URL:https://hlc.church/event/reality-tour-3/2026-04-16/
LOCATION:Community Hall and Youth Center\, 8070 Rowan Road\, Cranberry Township\, PA\, 16066\, United States
END:VEVENT
BEGIN:VEVENT
DTSTART;TZID=America/New_York:20260418T100000
DTEND;TZID=America/New_York:20260418T110000
DTSTAMP:20260421T045213
CREATED:20260304T191404Z
LAST-MODIFIED:20260407T174910Z
UID:10024103-1776506400-1776510000@hlc.church
SUMMARY:VBS Volunteer Meeting
DESCRIPTION:
URL:https://hlc.church/event/vbs-leader-meeting/
LOCATION:Community Hall\, 8070 ROWAN RD\, CRANBERRY TOWNSHIP\, PA\, PA\, 16066\, United States
END:VEVENT
BEGIN:VEVENT
DTSTART;TZID=America/New_York:20260418T170000
DTEND;TZID=America/New_York:20260418T180000
DTSTAMP:20260421T045213
CREATED:20241210T194935Z
LAST-MODIFIED:20260226T132714Z
UID:10020776-1776531600-1776535200@hlc.church
SUMMARY:Saturday 5 pm Worship
DESCRIPTION:
URL:https://hlc.church/event/saturday-5-pm-worship-3/2026-04-18/
LOCATION:Hope Lutheran Church\, 8070 Rowan Road\, Cranberry Township\, PA\, 16066\, United States
END:VEVENT
BEGIN:VEVENT
DTSTART;TZID=America/New_York:20260419T090000
DTEND;TZID=America/New_York:20260419T100000
DTSTAMP:20260421T045213
CREATED:20241210T195022Z
LAST-MODIFIED:20260116T170041Z
UID:10021034-1776589200-1776592800@hlc.church
SUMMARY:Sunday 9 am Worship
DESCRIPTION:
URL:https://hlc.church/event/sunday-9-am-worship-3/2026-04-19/
LOCATION:Hope – Sanctuary\, 8070 Rowan Road\, Cranberry Township\, PA\, 16066\, United States
END:VEVENT
BEGIN:VEVENT
DTSTART;TZID=America/New_York:20260419T100000
DTEND;TZID=America/New_York:20260419T104000
DTSTAMP:20260421T045213
CREATED:20250820T150344Z
LAST-MODIFIED:20260114T144825Z
UID:10022553-1776592800-1776595200@hlc.church
SUMMARY:Sunday School & Confirmation Class
DESCRIPTION:For all ages! \nAges 3 years old to 6th grade meet in the Classroom Wing \nConfirmation class grades 7th and 8th meet in the Youth Room. \nAdults – join us for Coffee & Conversation led by the pastors on the 3rd and 4th Sundays of the month. Topics will vary each Sunday.
URL:https://hlc.church/event/sunday-school-confirmation/2026-04-19/
LOCATION:Youth Center & Rooms 101-108\, 8070 Rowan Road\, Cranberry Township\, PA\, 16066\, United States
END:VEVENT
BEGIN:VEVENT
DTSTART;TZID=America/New_York:20260419T110000
DTEND;TZID=America/New_York:20260419T120000
DTSTAMP:20260421T045213
CREATED:20241210T195057Z
LAST-MODIFIED:20260116T170123Z
UID:10021292-1776596400-1776600000@hlc.church
SUMMARY:Sunday 11 am Worship
DESCRIPTION:
URL:https://hlc.church/event/sunday-11-am-worship-5/2026-04-19/
LOCATION:Hope – Sanctuary\, 8070 Rowan Road\, Cranberry Township\, PA\, 16066\, United States
END:VEVENT
BEGIN:VEVENT
DTSTART;TZID=America/New_York:20260419T163000
DTEND;TZID=America/New_York:20260419T180000
DTSTAMP:20260421T045213
CREATED:20250814T132904Z
LAST-MODIFIED:20260306T203009Z
UID:10024110-1776616200-1776621600@hlc.church
SUMMARY:Elementary Youth Night
DESCRIPTION:
URL:https://hlc.church/event/elementary-youth-night/2026-04-19/
LOCATION:Youth Center\, 8070 Rowan Road\, Cranberry Township\, PA\, 16066\, United States
END:VEVENT
BEGIN:VEVENT
DTSTART;TZID=America/New_York:20260420T120000
DTEND;TZID=America/New_York:20260420T140000
DTSTAMP:20260421T045213
CREATED:20260312T134634Z
LAST-MODIFIED:20260312T134636Z
UID:10024118-1776686400-1776693600@hlc.church
SUMMARY:Mental Health Association Volunteering
DESCRIPTION:Speak to Jean Adams if you would like to volunteer. \nCarpooling is available from the church\, otherwise meet at the Mental Health Association in Beaver County.
URL:https://hlc.church/event/mental-health-association-volunteering/
LOCATION:Mental Health Association of Beaver County\, 105 Brighton Ave\, Rochester\, PA\, 15074\, United States
END:VEVENT
BEGIN:VEVENT
DTSTART;TZID=America/New_York:20260420T180000
DTEND;TZID=America/New_York:20260420T200000
DTSTAMP:20260421T045213
CREATED:20250805T131628Z
LAST-MODIFIED:20250805T131629Z
UID:10022383-1776708000-1776715200@hlc.church
SUMMARY:Pack 406
DESCRIPTION:
URL:https://hlc.church/event/pack-406-2/2026-04-20/
LOCATION:Rooms 101 – 108\, 8070 Rowan Road\, Cranberry Township\, PA\, 16066
END:VEVENT
BEGIN:VEVENT
DTSTART;TZID=America/New_York:20260420T180000
DTEND;TZID=America/New_York:20260420T200000
DTSTAMP:20260421T045213
CREATED:20250814T133927Z
LAST-MODIFIED:20260109T195844Z
UID:10022489-1776708000-1776715200@hlc.church
SUMMARY:High School Bible Study
DESCRIPTION:
URL:https://hlc.church/event/high-school-bible-study/2026-04-20/
LOCATION:Break Room & Youth Center\, 8070 Rowan Road\, Cranberry Twp\, PA\, 16066\, United States
END:VEVENT
BEGIN:VEVENT
DTSTART;TZID=America/New_York:20260420T180000
DTEND;TZID=America/New_York:20260420T203000
DTSTAMP:20260421T045213
CREATED:20260413T184532Z
LAST-MODIFIED:20260415T133222Z
UID:10024735-1776708000-1776717000@hlc.church
SUMMARY:Girl Scout - CPR Training
DESCRIPTION:
URL:https://hlc.church/event/girl-scout-cpr-training/
LOCATION:Room 107 & 108\, 8070 Rowan Road\, Cranberry Twp\, PA\, 16066\, United States
END:VEVENT
BEGIN:VEVENT
DTSTART;TZID=America/New_York:20260420T183000
DTEND;TZID=America/New_York:20260420T193000
DTSTAMP:20260421T045213
CREATED:20260309T202615Z
LAST-MODIFIED:20260309T202616Z
UID:10024114-1776709800-1776713400@hlc.church
SUMMARY:Yearning Book Study
DESCRIPTION:Signup here: \nhttps://www.signupgenius.com/go/30E0E4BA9AA2AA2FC1-62854017-yearning#/
URL:https://hlc.church/event/yearning-book-study/2026-04-20/
LOCATION:Community Hall\, 8070 ROWAN RD\, CRANBERRY TOWNSHIP\, PA\, PA\, 16066\, United States
END:VEVENT
BEGIN:VEVENT
DTSTART;TZID=America/New_York:20260421T100000
DTEND;TZID=America/New_York:20260421T123000
DTSTAMP:20260421T045213
CREATED:20251222T151511Z
LAST-MODIFIED:20260121T154151Z
UID:10023522-1776765600-1776774600@hlc.church
SUMMARY:Senior Lunch Packing and Delivery
DESCRIPTION:
URL:https://hlc.church/event/senior-lunch-packing-and-delivery-2/2026-04-21/
LOCATION:Community Hall & Break Room\, 8070 Rowan Road\, Cranberry Township\, PA\, 16066\, United States
END:VEVENT
BEGIN:VEVENT
DTSTART;TZID=America/New_York:20260421T170000
DTEND;TZID=America/New_York:20260421T192500
DTSTAMP:20260421T045213
CREATED:20260107T134947Z
LAST-MODIFIED:20260107T141011Z
UID:10023215-1776790800-1776799500@hlc.church
SUMMARY:Soccer Shots
DESCRIPTION:
URL:https://hlc.church/event/soccer-shots/2026-04-21/
LOCATION:PA
END:VEVENT
BEGIN:VEVENT
DTSTART;TZID=America/New_York:20260421T180000
DTEND;TZID=America/New_York:20260421T193000
DTSTAMP:20260421T045213
CREATED:20251112T190117Z
LAST-MODIFIED:20260324T174203Z
UID:10022628-1776794400-1776799800@hlc.church
SUMMARY:Widows Group
DESCRIPTION:If you have been widowed for 6 months\, 1 year\, 3 years\, 5 years\, 7 years … all are welcome.  Please join so we can learn from and support each other. For more information click here.
URL:https://hlc.church/event/widows-group/
LOCATION:Room 105 & 106\, 8070 Rowan Road\, Cranberry Township\, PA\, 16066\, United States
END:VEVENT
BEGIN:VEVENT
DTSTART;TZID=America/New_York:20260421T180000
DTEND;TZID=America/New_York:20260421T213000
DTSTAMP:20260421T045213
CREATED:20250813T134129Z
LAST-MODIFIED:20260223T134324Z
UID:10022457-1776794400-1776807000@hlc.church
SUMMARY:Morning Star G. S.
DESCRIPTION:
URL:https://hlc.church/event/morning-star-g-s-3/2026-04-21/
LOCATION:Room 107 & 108\, 8070 Rowan Road\, Cranberry Twp\, PA\, 16066\, United States
END:VEVENT
BEGIN:VEVENT
DTSTART;TZID=America/New_York:20260421T190000
DTEND;TZID=America/New_York:20260421T200000
DTSTAMP:20260421T045213
CREATED:20251210T145705Z
LAST-MODIFIED:20251210T145707Z
UID:10022711-1776798000-1776801600@hlc.church
SUMMARY:HLC Board Meeting
DESCRIPTION:
URL:https://hlc.church/event/hlc-board-meeting/2026-04-21/
LOCATION:Zoom Meeting
END:VEVENT
BEGIN:VEVENT
DTSTART;TZID=America/New_York:20260422T090000
DTEND;TZID=America/New_York:20260422T100000
DTSTAMP:20260421T045213
CREATED:20250120T201511Z
LAST-MODIFIED:20260325T185241Z
UID:10024471-1776848400-1776852000@hlc.church
SUMMARY:Bulletin Folding
DESCRIPTION:
URL:https://hlc.church/event/bulletin-folding/2026-04-22/
LOCATION:Community Hall\, 8070 ROWAN RD\, CRANBERRY TOWNSHIP\, PA\, PA\, 16066\, United States
END:VEVENT
BEGIN:VEVENT
DTSTART;TZID=America/New_York:20260422T100000
DTEND;TZID=America/New_York:20260422T110000
DTSTAMP:20260421T045213
CREATED:20250120T201430Z
LAST-MODIFIED:20251211T211659Z
UID:10021662-1776852000-1776855600@hlc.church
SUMMARY:Wednesday Bible Study
DESCRIPTION:
URL:https://hlc.church/event/wednesday-bible-study/2026-04-22/
LOCATION:Community Hall\, 8070 ROWAN RD\, CRANBERRY TOWNSHIP\, PA\, PA\, 16066\, United States
END:VEVENT
BEGIN:VEVENT
DTSTART;TZID=America/New_York:20260422T183000
DTEND;TZID=America/New_York:20260422T193000
DTSTAMP:20260421T045213
CREATED:20260317T181159Z
LAST-MODIFIED:20260317T181200Z
UID:10024127-1776882600-1776886200@hlc.church
SUMMARY:Adult Choir Rehearsal
DESCRIPTION:
URL:https://hlc.church/event/adult-choir-rehearsal-2-2-2-2/2026-04-22/
LOCATION:Sanctuary\, 8070 Rowan Road\, Cranberry Township\, PA\, 16066\, United States
END:VEVENT
BEGIN:VEVENT
DTSTART;TZID=America/New_York:20260425T090000
DTEND;TZID=America/New_York:20260425T120000
DTSTAMP:20260421T045213
CREATED:20260119T134011Z
LAST-MODIFIED:20260119T134012Z
UID:10023444-1777107600-1777118400@hlc.church
SUMMARY:Spring Cleanup
DESCRIPTION:
URL:https://hlc.church/event/spring-cleanup/
LOCATION:Hope Parking Lot\, 8070 Rowan Road\, Cranberry Twp\, PA\, 16066\, United States
END:VEVENT
BEGIN:VEVENT
DTSTART;TZID=America/New_York:20260425T170000
DTEND;TZID=America/New_York:20260425T180000
DTSTAMP:20260421T045213
CREATED:20241210T194935Z
LAST-MODIFIED:20260226T132714Z
UID:10020777-1777136400-1777140000@hlc.church
SUMMARY:Saturday 5 pm Worship
DESCRIPTION:
URL:https://hlc.church/event/saturday-5-pm-worship-3/2026-04-25/
LOCATION:Hope Lutheran Church\, 8070 Rowan Road\, Cranberry Township\, PA\, 16066\, United States
END:VEVENT
END:VCALENDAR