BEGIN:VCALENDAR
VERSION:2.0
PRODID:-//Hope ELCA | Hope Lutheran Church - Cranberry Twp, Butler PA - ECPv6.15.20//NONSGML v1.0//EN
CALSCALE:GREGORIAN
METHOD:PUBLISH
X-ORIGINAL-URL:https://hlc.church
X-WR-CALDESC:Events for Hope ELCA | Hope Lutheran Church - Cranberry Twp, Butler PA
REFRESH-INTERVAL;VALUE=DURATION:PT1H
X-Robots-Tag:noindex
X-PUBLISHED-TTL:PT1H
BEGIN:VTIMEZONE
TZID:America/New_York
BEGIN:DAYLIGHT
TZOFFSETFROM:-0500
TZOFFSETTO:-0400
TZNAME:EDT
DTSTART:20250309T070000
END:DAYLIGHT
BEGIN:STANDARD
TZOFFSETFROM:-0400
TZOFFSETTO:-0500
TZNAME:EST
DTSTART:20251102T060000
END:STANDARD
BEGIN:DAYLIGHT
TZOFFSETFROM:-0500
TZOFFSETTO:-0400
TZNAME:EDT
DTSTART:20260308T070000
END:DAYLIGHT
BEGIN:STANDARD
TZOFFSETFROM:-0400
TZOFFSETTO:-0500
TZNAME:EST
DTSTART:20261101T060000
END:STANDARD
BEGIN:DAYLIGHT
TZOFFSETFROM:-0500
TZOFFSETTO:-0400
TZNAME:EDT
DTSTART:20270314T070000
END:DAYLIGHT
BEGIN:STANDARD
TZOFFSETFROM:-0400
TZOFFSETTO:-0500
TZNAME:EST
DTSTART:20271107T060000
END:STANDARD
END:VTIMEZONE
BEGIN:VEVENT
DTSTART;TZID=America/New_York:20260429T090000
DTEND;TZID=America/New_York:20260429T100000
DTSTAMP:20260423T041810
CREATED:20250120T201511Z
LAST-MODIFIED:20260325T185241Z
UID:10024472-1777453200-1777456800@hlc.church
SUMMARY:Bulletin Folding
DESCRIPTION:
URL:https://hlc.church/event/bulletin-folding/2026-04-29/
LOCATION:Community Hall\, 8070 ROWAN RD\, CRANBERRY TOWNSHIP\, PA\, PA\, 16066\, United States
END:VEVENT
BEGIN:VEVENT
DTSTART;TZID=America/New_York:20260429T100000
DTEND;TZID=America/New_York:20260429T110000
DTSTAMP:20260423T041810
CREATED:20250120T201430Z
LAST-MODIFIED:20251211T211659Z
UID:10021663-1777456800-1777460400@hlc.church
SUMMARY:Wednesday Bible Study
DESCRIPTION:
URL:https://hlc.church/event/wednesday-bible-study/2026-04-29/
LOCATION:Community Hall\, 8070 ROWAN RD\, CRANBERRY TOWNSHIP\, PA\, PA\, 16066\, United States
END:VEVENT
BEGIN:VEVENT
DTSTART;TZID=America/New_York:20260429T180000
DTEND;TZID=America/New_York:20260429T200000
DTSTAMP:20260423T041810
CREATED:20250814T134442Z
LAST-MODIFIED:20250814T134443Z
UID:10022497-1777485600-1777492800@hlc.church
SUMMARY:Middle School Bible Study
DESCRIPTION:
URL:https://hlc.church/event/middle-school-bible-study/2026-04-29/
LOCATION:Break Room & Youth Center\, 8070 Rowan Road\, Cranberry Twp\, PA\, 16066\, United States
END:VEVENT
BEGIN:VEVENT
DTSTART;TZID=America/New_York:20260429T183000
DTEND;TZID=America/New_York:20260429T193000
DTSTAMP:20260423T041810
CREATED:20260317T181159Z
LAST-MODIFIED:20260317T181200Z
UID:10024128-1777487400-1777491000@hlc.church
SUMMARY:Adult Choir Rehearsal
DESCRIPTION:
URL:https://hlc.church/event/adult-choir-rehearsal-2-2-2-2/2026-04-29/
LOCATION:Sanctuary\, 8070 Rowan Road\, Cranberry Township\, PA\, 16066\, United States
END:VEVENT
END:VCALENDAR