BEGIN:VCALENDAR
VERSION:2.0
PRODID:-//Hope ELCA | Hope Lutheran Church - Cranberry Twp, Butler PA - ECPv6.15.20//NONSGML v1.0//EN
CALSCALE:GREGORIAN
METHOD:PUBLISH
X-ORIGINAL-URL:https://hlc.church
X-WR-CALDESC:Events for Hope ELCA | Hope Lutheran Church - Cranberry Twp, Butler PA
REFRESH-INTERVAL;VALUE=DURATION:PT1H
X-Robots-Tag:noindex
X-PUBLISHED-TTL:PT1H
BEGIN:VTIMEZONE
TZID:America/New_York
BEGIN:DAYLIGHT
TZOFFSETFROM:-0500
TZOFFSETTO:-0400
TZNAME:EDT
DTSTART:20250309T070000
END:DAYLIGHT
BEGIN:STANDARD
TZOFFSETFROM:-0400
TZOFFSETTO:-0500
TZNAME:EST
DTSTART:20251102T060000
END:STANDARD
BEGIN:DAYLIGHT
TZOFFSETFROM:-0500
TZOFFSETTO:-0400
TZNAME:EDT
DTSTART:20260308T070000
END:DAYLIGHT
BEGIN:STANDARD
TZOFFSETFROM:-0400
TZOFFSETTO:-0500
TZNAME:EST
DTSTART:20261101T060000
END:STANDARD
BEGIN:DAYLIGHT
TZOFFSETFROM:-0500
TZOFFSETTO:-0400
TZNAME:EDT
DTSTART:20270314T070000
END:DAYLIGHT
BEGIN:STANDARD
TZOFFSETFROM:-0400
TZOFFSETTO:-0500
TZNAME:EST
DTSTART:20271107T060000
END:STANDARD
END:VTIMEZONE
BEGIN:VEVENT
DTSTART;TZID=America/New_York:20260407T100000
DTEND;TZID=America/New_York:20260407T123000
DTSTAMP:20260422T130847
CREATED:20251222T151511Z
LAST-MODIFIED:20260121T154151Z
UID:10023520-1775556000-1775565000@hlc.church
SUMMARY:Senior Lunch Packing and Delivery
DESCRIPTION:
URL:https://hlc.church/event/senior-lunch-packing-and-delivery-2/2026-04-07/
LOCATION:Community Hall & Break Room\, 8070 Rowan Road\, Cranberry Township\, PA\, 16066\, United States
END:VEVENT
BEGIN:VEVENT
DTSTART;TZID=America/New_York:20260407T120000
DTEND;TZID=America/New_York:20260407T153000
DTSTAMP:20260422T130847
CREATED:20250811T160856Z
LAST-MODIFIED:20251210T151701Z
UID:10022448-1775563200-1775575800@hlc.church
SUMMARY:P.E.O. Meeting
DESCRIPTION:
URL:https://hlc.church/event/p-e-o-meeting/2026-04-07/
LOCATION:Community Hall\, 8070 ROWAN RD\, CRANBERRY TOWNSHIP\, PA\, PA\, 16066\, United States
END:VEVENT
BEGIN:VEVENT
DTSTART;TZID=America/New_York:20260407T170000
DTEND;TZID=America/New_York:20260407T192500
DTSTAMP:20260422T130847
CREATED:20260107T134947Z
LAST-MODIFIED:20260107T141011Z
UID:10023213-1775581200-1775589900@hlc.church
SUMMARY:Soccer Shots
DESCRIPTION:
URL:https://hlc.church/event/soccer-shots/2026-04-07/
LOCATION:PA
END:VEVENT
BEGIN:VEVENT
DTSTART;TZID=America/New_York:20260407T190000
DTEND;TZID=America/New_York:20260407T203000
DTSTAMP:20260422T130847
CREATED:20251210T151418Z
LAST-MODIFIED:20251210T151544Z
UID:10022771-1775588400-1775593800@hlc.church
SUMMARY:Trivia Night
DESCRIPTION:
URL:https://hlc.church/event/trivia-night/2026-04-07/
LOCATION:Recon Brew at Meeder\, 301 Tillary Lane\, Cranberry Township\, PA\, 16066\, United States
END:VEVENT
END:VCALENDAR