BEGIN:VCALENDAR
VERSION:2.0
PRODID:-//Hope ELCA | Hope Lutheran Church - Cranberry Twp, Butler PA - ECPv6.15.20//NONSGML v1.0//EN
CALSCALE:GREGORIAN
METHOD:PUBLISH
X-WR-CALNAME:Hope ELCA | Hope Lutheran Church - Cranberry Twp, Butler PA
X-ORIGINAL-URL:https://hlc.church
X-WR-CALDESC:Events for Hope ELCA | Hope Lutheran Church - Cranberry Twp, Butler PA
REFRESH-INTERVAL;VALUE=DURATION:PT1H
X-Robots-Tag:noindex
X-PUBLISHED-TTL:PT1H
BEGIN:VTIMEZONE
TZID:America/New_York
BEGIN:DAYLIGHT
TZOFFSETFROM:-0500
TZOFFSETTO:-0400
TZNAME:EDT
DTSTART:20250309T070000
END:DAYLIGHT
BEGIN:STANDARD
TZOFFSETFROM:-0400
TZOFFSETTO:-0500
TZNAME:EST
DTSTART:20251102T060000
END:STANDARD
BEGIN:DAYLIGHT
TZOFFSETFROM:-0500
TZOFFSETTO:-0400
TZNAME:EDT
DTSTART:20260308T070000
END:DAYLIGHT
BEGIN:STANDARD
TZOFFSETFROM:-0400
TZOFFSETTO:-0500
TZNAME:EST
DTSTART:20261101T060000
END:STANDARD
BEGIN:DAYLIGHT
TZOFFSETFROM:-0500
TZOFFSETTO:-0400
TZNAME:EDT
DTSTART:20270314T070000
END:DAYLIGHT
BEGIN:STANDARD
TZOFFSETFROM:-0400
TZOFFSETTO:-0500
TZNAME:EST
DTSTART:20271107T060000
END:STANDARD
END:VTIMEZONE
BEGIN:VEVENT
DTSTART;TZID=America/New_York:20260330T180000
DTEND;TZID=America/New_York:20260330T200000
DTSTAMP:20260422T235626
CREATED:20250814T134442Z
LAST-MODIFIED:20250814T134443Z
UID:10022496-1774893600-1774900800@hlc.church
SUMMARY:Middle School Bible Study
DESCRIPTION:
URL:https://hlc.church/event/middle-school-bible-study/2026-03-30/
LOCATION:Break Room & Youth Center\, 8070 Rowan Road\, Cranberry Twp\, PA\, 16066\, United States
END:VEVENT
END:VCALENDAR